BEGIN:VCALENDAR
VERSION:2.0
PRODID:-//Invest Coventry &amp; Warwickshire - ECPv6.13.2.1//NONSGML v1.0//EN
CALSCALE:GREGORIAN
METHOD:PUBLISH
X-ORIGINAL-URL:https://investcw.co.uk
X-WR-CALDESC:Events for Invest Coventry &amp; Warwickshire
REFRESH-INTERVAL;VALUE=DURATION:PT1H
X-Robots-Tag:noindex
X-PUBLISHED-TTL:PT1H
BEGIN:VTIMEZONE
TZID:Europe/London
BEGIN:DAYLIGHT
TZOFFSETFROM:+0000
TZOFFSETTO:+0100
TZNAME:BST
DTSTART:20240331T010000
END:DAYLIGHT
BEGIN:STANDARD
TZOFFSETFROM:+0100
TZOFFSETTO:+0000
TZNAME:GMT
DTSTART:20241027T010000
END:STANDARD
END:VTIMEZONE
BEGIN:VEVENT
DTSTART;TZID=Europe/London:20240429T080000
DTEND;TZID=Europe/London:20240429T170000
DTSTAMP:20260423T133825
CREATED:20240429T154949Z
LAST-MODIFIED:20240429T160117Z
UID:10000017-1714377600-1714410000@investcw.co.uk
SUMMARY:Micromobility UK 2024
DESCRIPTION:For the fourth consecutive year\, we’re thrilled to invite you to the UK’s only in-person event dedicated to micromobility. Join us on the University of Warwick campus for a day filled with cutting-edge innovations\, enlightening discussions\, and numerous networking opportunities.
URL:https://investcw.co.uk/event/micromobility-uk-2024/
LOCATION:WMG Campus
CATEGORIES:Advanced Manufacturing,Automotive,Future Mobility
END:VEVENT
END:VCALENDAR