BEGIN:VCALENDAR
VERSION:2.0
PRODID:-//Invest Coventry &amp; Warwickshire - ECPv6.13.2.1//NONSGML v1.0//EN
CALSCALE:GREGORIAN
METHOD:PUBLISH
X-ORIGINAL-URL:https://investcw.co.uk
X-WR-CALDESC:Events for Invest Coventry &amp; Warwickshire
REFRESH-INTERVAL;VALUE=DURATION:PT1H
X-Robots-Tag:noindex
X-PUBLISHED-TTL:PT1H
BEGIN:VTIMEZONE
TZID:Europe/London
BEGIN:DAYLIGHT
TZOFFSETFROM:+0000
TZOFFSETTO:+0100
TZNAME:BST
DTSTART:20240331T010000
END:DAYLIGHT
BEGIN:STANDARD
TZOFFSETFROM:+0100
TZOFFSETTO:+0000
TZNAME:GMT
DTSTART:20241027T010000
END:STANDARD
END:VTIMEZONE
BEGIN:VEVENT
DTSTART;TZID=Europe/London:20240416T093000
DTEND;TZID=Europe/London:20240416T123000
DTSTAMP:20260423T115442
CREATED:20240319T162442Z
LAST-MODIFIED:20240429T160913Z
UID:10000004-1713259800-1713270600@investcw.co.uk
SUMMARY:Supply Chain Resilience and Optimisation
DESCRIPTION:Empowering manufacturers with the knowledge and strategies necessary to establish resilient and highly efficient supply chains.
URL:https://investcw.co.uk/event/supply-chain-resilience-and-optimisation/
LOCATION:Technoset Ltd (Techno Group)\, 3 Roman Way\, Rugby\, CV21 1DB
CATEGORIES:Advanced Manufacturing
END:VEVENT
END:VCALENDAR