BEGIN:VCALENDAR
VERSION:2.0
PRODID:-//Invest Coventry &amp; Warwickshire - ECPv6.13.2.1//NONSGML v1.0//EN
CALSCALE:GREGORIAN
METHOD:PUBLISH
X-WR-CALNAME:Invest Coventry &amp; Warwickshire
X-ORIGINAL-URL:https://investcw.co.uk
X-WR-CALDESC:Events for Invest Coventry &amp; Warwickshire
REFRESH-INTERVAL;VALUE=DURATION:PT1H
X-Robots-Tag:noindex
X-PUBLISHED-TTL:PT1H
BEGIN:VTIMEZONE
TZID:Europe/London
BEGIN:DAYLIGHT
TZOFFSETFROM:+0000
TZOFFSETTO:+0100
TZNAME:BST
DTSTART:20240331T010000
END:DAYLIGHT
BEGIN:STANDARD
TZOFFSETFROM:+0100
TZOFFSETTO:+0000
TZNAME:GMT
DTSTART:20241027T010000
END:STANDARD
END:VTIMEZONE
BEGIN:VEVENT
DTSTART;VALUE=DATE:20240510
DTEND;VALUE=DATE:20240512
DTSTAMP:20260423T153757
CREATED:20240424T193939Z
LAST-MODIFIED:20240429T160012Z
UID:10000008-1715299200-1715471999@investcw.co.uk
SUMMARY:Interactive Futures 2024 - Gateway into Games
DESCRIPTION:Some of the biggest names in video games will make an appearance at this year’s Interactive Futures conference in Leamington\, otherwise known as Silicon Spa.
URL:https://investcw.co.uk/event/interactive-futures-2024-gateway-into-games/
CATEGORIES:Creative Industries & Game Development,We're attending
END:VEVENT
END:VCALENDAR