BEGIN:VCALENDAR
VERSION:2.0
PRODID:-//Invest Coventry &amp; Warwickshire - ECPv6.13.2.1//NONSGML v1.0//EN
CALSCALE:GREGORIAN
METHOD:PUBLISH
X-WR-CALNAME:Invest Coventry &amp; Warwickshire
X-ORIGINAL-URL:https://investcw.co.uk
X-WR-CALDESC:Events for Invest Coventry &amp; Warwickshire
REFRESH-INTERVAL;VALUE=DURATION:PT1H
X-Robots-Tag:noindex
X-PUBLISHED-TTL:PT1H
BEGIN:VTIMEZONE
TZID:Europe/London
BEGIN:DAYLIGHT
TZOFFSETFROM:+0000
TZOFFSETTO:+0100
TZNAME:BST
DTSTART:20240331T010000
END:DAYLIGHT
BEGIN:STANDARD
TZOFFSETFROM:+0100
TZOFFSETTO:+0000
TZNAME:GMT
DTSTART:20241027T010000
END:STANDARD
END:VTIMEZONE
BEGIN:VEVENT
DTSTART;TZID=Europe/London:20240426T073000
DTEND;TZID=Europe/London:20240426T093000
DTSTAMP:20260423T101154
CREATED:20240424T193543Z
LAST-MODIFIED:20240429T160215Z
UID:10000006-1714116600-1714123800@investcw.co.uk
SUMMARY:BIG Breakfast - Let's Talk Business Networking at the Farm
DESCRIPTION:Join us at Let’s Talk Business BIG Breakfast\, a monthly open networking event where local businesses come together to connect and collaborate. We believe that strong connections are the foundation of successful business\, and this event is all about fostering those relationships.
URL:https://investcw.co.uk/event/big-breakfast-lets-talk-business-networking-at-the-farm/
CATEGORIES:Business, Professional & Financial Services
END:VEVENT
END:VCALENDAR